BEGIN:VCALENDAR
VERSION:2.0
PRODID:-//Mill Creek Fire Company - ECPv6.15.20//NONSGML v1.0//EN
CALSCALE:GREGORIAN
METHOD:PUBLISH
X-WR-CALNAME:Mill Creek Fire Company
X-ORIGINAL-URL:https://www.millcreekfire.org
X-WR-CALDESC:Events for Mill Creek Fire Company
REFRESH-INTERVAL;VALUE=DURATION:PT1H
X-Robots-Tag:noindex
X-PUBLISHED-TTL:PT1H
BEGIN:VTIMEZONE
TZID:America/New_York
BEGIN:DAYLIGHT
TZOFFSETFROM:-0500
TZOFFSETTO:-0400
TZNAME:EDT
DTSTART:20250309T070000
END:DAYLIGHT
BEGIN:STANDARD
TZOFFSETFROM:-0400
TZOFFSETTO:-0500
TZNAME:EST
DTSTART:20251102T060000
END:STANDARD
BEGIN:DAYLIGHT
TZOFFSETFROM:-0500
TZOFFSETTO:-0400
TZNAME:EDT
DTSTART:20260308T070000
END:DAYLIGHT
BEGIN:STANDARD
TZOFFSETFROM:-0400
TZOFFSETTO:-0500
TZNAME:EST
DTSTART:20261101T060000
END:STANDARD
BEGIN:DAYLIGHT
TZOFFSETFROM:-0500
TZOFFSETTO:-0400
TZNAME:EDT
DTSTART:20270314T070000
END:DAYLIGHT
BEGIN:STANDARD
TZOFFSETFROM:-0400
TZOFFSETTO:-0500
TZNAME:EST
DTSTART:20271107T060000
END:STANDARD
END:VTIMEZONE
BEGIN:VEVENT
DTSTART;TZID=America/New_York:20260601T070000
DTEND;TZID=America/New_York:20260601T220000
DTSTAMP:20260418T220934
CREATED:20260330T033234Z
LAST-MODIFIED:20260330T194252Z
UID:10001675-1780297200-1780351200@www.millcreekfire.org
SUMMARY:Board of Directors Meeting
DESCRIPTION:The Board of Directors Meeting is a formal\, regular assembly where elected officials oversee company activities\, set strategy\, and fulfill fiduciary duties. Key objectives include reviewing financial performance\, managing risks\, and ensuring legal compliance. Effective meetings require a structured agenda\, sent in advance\, focusing on strategic decisions rather than operational details.
URL:https://www.millcreekfire.org/event/board-of-directors-meeting/2026-06-01/
LOCATION:Station 21\, 3808 Kirkwood Hwy\, Wilmington\, DE\, 19808\, United States
CATEGORIES:Company Operations Meeting,Meeting,Training
END:VEVENT
END:VCALENDAR